BEGIN:VCALENDAR
VERSION:2.0
PRODID:-//Henri Food Court - ECPv6.15.20//NONSGML v1.0//EN
CALSCALE:GREGORIAN
METHOD:PUBLISH
X-WR-CALNAME:Henri Food Court
X-ORIGINAL-URL:https://henrifoodcourt.fr
X-WR-CALDESC:Évènements pour Henri Food Court
REFRESH-INTERVAL;VALUE=DURATION:PT1H
X-Robots-Tag:noindex
X-PUBLISHED-TTL:PT1H
BEGIN:VTIMEZONE
TZID:Europe/Paris
BEGIN:DAYLIGHT
TZOFFSETFROM:+0100
TZOFFSETTO:+0200
TZNAME:CEST
DTSTART:20250330T010000
END:DAYLIGHT
BEGIN:STANDARD
TZOFFSETFROM:+0200
TZOFFSETTO:+0100
TZNAME:CET
DTSTART:20251026T010000
END:STANDARD
BEGIN:DAYLIGHT
TZOFFSETFROM:+0100
TZOFFSETTO:+0200
TZNAME:CEST
DTSTART:20260329T010000
END:DAYLIGHT
BEGIN:STANDARD
TZOFFSETFROM:+0200
TZOFFSETTO:+0100
TZNAME:CET
DTSTART:20261025T010000
END:STANDARD
BEGIN:DAYLIGHT
TZOFFSETFROM:+0100
TZOFFSETTO:+0200
TZNAME:CEST
DTSTART:20270328T010000
END:DAYLIGHT
BEGIN:STANDARD
TZOFFSETFROM:+0200
TZOFFSETTO:+0100
TZNAME:CET
DTSTART:20271031T010000
END:STANDARD
END:VTIMEZONE
BEGIN:VEVENT
DTSTART;TZID=Europe/Paris:20260421T210000
DTEND;TZID=Europe/Paris:20260421T233000
DTSTAMP:20260421T104134
CREATED:20260325T175604Z
LAST-MODIFIED:20260325T175604Z
UID:5098-1776805200-1776814200@henrifoodcourt.fr
SUMMARY:ROCK & POP
DESCRIPTION:Retrouvez toute l’énergie d’une soirée rock et pop à Pau avec une sélection musicale entraînante\, parfaite pour chanter\, danser et partager un bon moment entre amis. Des classiques incontournables aux morceaux les plus fédérateurs\, cette soirée dansante s’adresse à tous ceux qui aiment les ambiances rythmées et les playlists qui mettent tout le monde d’accord. Une excellente option pour celles et ceux qui cherchent une soirée musique à Pau\, une sortie conviviale ou un dancefloor accessible et festif.
URL:https://henrifoodcourt.fr/event/rock-pop-14/
END:VEVENT
BEGIN:VEVENT
DTSTART;TZID=Europe/Paris:20260422T190000
DTEND;TZID=Europe/Paris:20260422T210000
DTSTAMP:20260421T104134
CREATED:20260325T175759Z
LAST-MODIFIED:20260325T180445Z
UID:5100-1776884400-1776891600@henrifoodcourt.fr
SUMMARY:TRIVIAL PURSUIT XXL
DESCRIPTION:Testez votre culture générale lors de notre soirée quizz à Pau avec un format Trivial Pursuit XXL pensé pour le fun\, la compétition et la convivialité. Que vous veniez entre amis\, en famille ou entre collègues\, cette animation est idéale pour passer une soirée originale\, stimulante et pleine de bonne humeur. Si vous cherchez une activité de groupe à Pau\, une soirée jeux ou un concept ludique pour sortir en semaine\, ce rendez-vous est une excellente idée. Venez relever le défi et partager un moment mémorable autour du jeu. \npour s’inscrire\, c’est ici ⤵️ \nhttps://forms.gle/baaYx2Jy13epxpVA6 
URL:https://henrifoodcourt.fr/event/trivial-pursuit-xxl/
END:VEVENT
BEGIN:VEVENT
DTSTART;TZID=Europe/Paris:20260423T180000
DTEND;TZID=Europe/Paris:20260423T210000
DTSTAMP:20260421T104134
CREATED:20260325T180715Z
LAST-MODIFIED:20260325T180715Z
UID:5103-1776967200-1776978000@henrifoodcourt.fr
SUMMARY:AFTERWORK REDBULL
DESCRIPTION:Profitez d’un afterwork à Pau avec la marque de boissons énergisantes Red Bull et de nombreuses surprises dans une ambiance détendue et festive. Cet événement est parfait pour décompresser après le travail\, se retrouver entre amis ou collègues\, et découvrir une animation conviviale au cœur de Pau. Si vous cherchez une idée de sortie afterwork à Pau\, un apéritif animé ou un événement pour commencer la soirée dans la bonne humeur\, ce rendez-vous est fait pour vous
URL:https://henrifoodcourt.fr/event/afterwork-redbull/
END:VEVENT
BEGIN:VEVENT
DTSTART;TZID=Europe/Paris:20260424T224500
DTEND;TZID=Europe/Paris:20260424T235900
DTSTAMP:20260421T104134
CREATED:20260325T181715Z
LAST-MODIFIED:20260325T181715Z
UID:5107-1777070700-1777075140@henrifoodcourt.fr
SUMMARY:SOIRÉE EVERYBODY DANCE
DESCRIPTION:Le mot d’ordre est simple : danser. Avec notre soirée Everybody Dance à Pau\, DJ Greg B’Riz vous embarque pour une nuit festive\, rythmée et fédératrice. Attendez-vous à une ambiance survoltée\, des morceaux faits pour le dancefloor et une vraie énergie de fête pour commencer le week-end comme il se doit. Si vous cherchez une soirée dansante à Pau\, une bonne adresse pour sortir le vendredi ou un DJ set capable de faire bouger tout le monde\, cette soirée est un incontournable.
URL:https://henrifoodcourt.fr/event/soiree-everybody-dance/
END:VEVENT
BEGIN:VEVENT
DTSTART;TZID=Europe/Paris:20260425T224500
DTEND;TZID=Europe/Paris:20260425T235900
DTSTAMP:20260421T104134
CREATED:20260325T181900Z
LAST-MODIFIED:20260325T181900Z
UID:5109-1777157100-1777161540@henrifoodcourt.fr
SUMMARY:SOIRÉE AVEC SHOOTER & MEDUSA
DESCRIPTION:Vivez une soirée festive à Pau avec la marque Shooter\, leur égérie Medusa et DJ Yulen pour un samedi soir placé sous le signe du son\, de l’ambiance et du lâcher-prise. Cette soirée promet une atmosphère animée\, conviviale et énergique\, parfaite pour sortir entre amis\, profiter du week-end et danser jusqu’au bout de la nuit. Si vous recherchez une soirée DJ à Pau\, une idée de sortie le samedi ou une ambiance clubbing accessible et festive\, cet événement a tout pour séduire.
URL:https://henrifoodcourt.fr/event/soiree-avec-shooter-medusa/
END:VEVENT
BEGIN:VEVENT
DTSTART;TZID=Europe/Paris:20260426T103000
DTEND;TZID=Europe/Paris:20260426T150000
DTSTAMP:20260421T104134
CREATED:20260325T182110Z
LAST-MODIFIED:20260325T182110Z
UID:5111-1777199400-1777215600@henrifoodcourt.fr
SUMMARY:VIDE DRESSING
DESCRIPTION:Avis aux amateurs de mode\, de bonnes affaires et de seconde main : participez à notre vide dressing à Pau. Cet événement est parfait pour chiner des pièces originales\, renouveler sa garde-robe\, vendre\, acheter ou simplement profiter d’une ambiance conviviale autour de la mode. Si vous cherchez un vide dressing à Pau\, une sortie shopping différente ou une activité du dimanche alliant style et bons plans\, ce rendez-vous est à ne pas manquer. \npour s’inscrire en tant qu’exposant/e\, c’est ici ⤵️ \nhttps://forms.gle/HqUjDqD6qmytW1R6A 
URL:https://henrifoodcourt.fr/event/vide-dressing-2/
END:VEVENT
BEGIN:VEVENT
DTSTART;TZID=Europe/Paris:20260427T190000
DTEND;TZID=Europe/Paris:20260427T210000
DTSTAMP:20260421T104134
CREATED:20260325T182240Z
LAST-MODIFIED:20260325T182437Z
UID:5113-1777316400-1777323600@henrifoodcourt.fr
SUMMARY:PEINTURE SUR CERAMIQUE
DESCRIPTION:Participez à un atelier peinture sur céramique à Pau et laissez parler votre créativité dans une ambiance détendue et inspirante. Accessible à tous\, cet atelier est idéal pour découvrir une activité manuelle\, partager un moment convivial et personnaliser une pièce unique. Que vous recherchiez un atelier créatif à Pau\, une activité originale en semaine ou une idée de sortie calme et artistique\, cet événement vous permet de vous exprimer tout en passant un agréable moment. \npour s’inscrire\, c’est ici ⤵️ \nhttps://forms.gle/fJjMkJ75kTu6z3xL7
URL:https://henrifoodcourt.fr/event/peinture-sur-ceramique-3/
END:VEVENT
BEGIN:VEVENT
DTSTART;TZID=Europe/Paris:20260428T210000
DTEND;TZID=Europe/Paris:20260428T230000
DTSTAMP:20260421T104134
CREATED:20260325T182613Z
LAST-MODIFIED:20260325T182613Z
UID:5115-1777410000-1777417200@henrifoodcourt.fr
SUMMARY:½ DE FINALE LIGUE DES CHAMPIONS
DESCRIPTION:Venez vivre la demi-finale de Ligue des Champions à Pau sur écrans géants dans une ambiance de supporters. Ce rendez-vous est parfait pour partager les émotions du match\, profiter d’une vraie atmosphère sportive et suivre le football européen dans les meilleures conditions. Si vous cherchez où regarder une demi-finale à Pau\, un lieu animé pour voir le match ou une soirée foot à Pau\, cette diffusion est faite pour vous.
URL:https://henrifoodcourt.fr/event/%c2%bd-de-finale-ligue-des-champions/
END:VEVENT
END:VCALENDAR